BEGIN:VCALENDAR
VERSION:2.0
PRODID:spatie/icalendar-generator
DESCRIPTION:Veranstaltungen von Mainzer Ruderverein 1878 e.V.
X-WR-CALDESC:Veranstaltungen von Mainzer Ruderverein 1878 e.V.
REFRESH-INTERVAL;VALUE=DURATION:PT1440M
X-PUBLISHED-TTL:PT1440M
BEGIN:VTIMEZONE
TZID:Etc/GMT+0
BEGIN:STANDARD
DTSTART:20230922T180000Z
TZOFFSETFROM:+0000
TZOFFSETTO:+0000
END:STANDARD
END:VTIMEZONE
BEGIN:VTIMEZONE
TZID:UTC
BEGIN:STANDARD
DTSTART:20250726T091307Z
TZOFFSETFROM:+0000
TZOFFSETTO:+0000
END:STANDARD
END:VTIMEZONE
BEGIN:VEVENT
UID:202-16
DTSTAMP:20260422T091307Z
SUMMARY:Offenes Training für Freizeitruderer mit Kat-Begleitung
LOCATION:Bootshaus Victor-Hugo-Ufer 1  55116 Mainz Rheinland-Pfalz
ORGANIZER;CN=Wolfgang Litzenburger:MAILTO:wlitzenburger@t-online.de
RRULE:FREQ=WEEKLY;UNTIL=20240625T000000Z
DTSTART;TZID=Etc/GMT+0:20240618T180000
DTEND;TZID=Etc/GMT+0:20240618T190000
X-ALT-DESC;FMTTYPE=TEXT/HTML:Dieses Rudertraining ist für alle MRV-Mitglie
 der offen. Dieser Vereinstermin ist mit der Mitgliedsgebühr abgedeckt. Da
 niel bietet auch Betreuung vom Katamaran aus an für alle\, die im Acker r
 udern. Deshalb können sich alle ohne Ausrede in den Einer trauen\, denn D
 aniel begleitet alle sicher über den Rhein und hilft mit dem Boot und am 
 Steg. Bezüglich&amp;hellip\;
CATEGORIES:Freizeitrudern
URL;VALUE=URI:https://www.mainzerruderverein.de/mc-events/offenes-training-
 fuer-freizeitruderer-mit-kat-begleitung?mc_id=202
METHOD:PUBLISH
END:VEVENT
END:VCALENDAR